BEGIN:VCALENDAR
VERSION:2.0
PRODID:-//Healthy Waters Alliance - ECPv6.15.13.1//NONSGML v1.0//EN
CALSCALE:GREGORIAN
METHOD:PUBLISH
X-WR-CALNAME:Healthy Waters Alliance
X-ORIGINAL-URL:https://healthywatersalliance.com
X-WR-CALDESC:Events for Healthy Waters Alliance
REFRESH-INTERVAL;VALUE=DURATION:PT1H
X-Robots-Tag:noindex
X-PUBLISHED-TTL:PT1H
BEGIN:VTIMEZONE
TZID:America/Detroit
BEGIN:DAYLIGHT
TZOFFSETFROM:-0500
TZOFFSETTO:-0400
TZNAME:EDT
DTSTART:20230312T070000
END:DAYLIGHT
BEGIN:STANDARD
TZOFFSETFROM:-0400
TZOFFSETTO:-0500
TZNAME:EST
DTSTART:20231105T060000
END:STANDARD
BEGIN:DAYLIGHT
TZOFFSETFROM:-0500
TZOFFSETTO:-0400
TZNAME:EDT
DTSTART:20240310T070000
END:DAYLIGHT
BEGIN:STANDARD
TZOFFSETFROM:-0400
TZOFFSETTO:-0500
TZNAME:EST
DTSTART:20241103T060000
END:STANDARD
BEGIN:DAYLIGHT
TZOFFSETFROM:-0500
TZOFFSETTO:-0400
TZNAME:EDT
DTSTART:20250309T070000
END:DAYLIGHT
BEGIN:STANDARD
TZOFFSETFROM:-0400
TZOFFSETTO:-0500
TZNAME:EST
DTSTART:20251102T060000
END:STANDARD
BEGIN:DAYLIGHT
TZOFFSETFROM:-0500
TZOFFSETTO:-0400
TZNAME:EDT
DTSTART:20260308T070000
END:DAYLIGHT
BEGIN:STANDARD
TZOFFSETFROM:-0400
TZOFFSETTO:-0500
TZNAME:EST
DTSTART:20261101T060000
END:STANDARD
END:VTIMEZONE
BEGIN:VEVENT
DTSTART;VALUE=DATE:20240704
DTEND;VALUE=DATE:20240708
DTSTAMP:20260421T014030
CREATED:20240311T013104Z
LAST-MODIFIED:20240311T011908Z
UID:124-1720051200-1720396799@healthywatersalliance.com
SUMMARY:Dec(k)-o-Rate Your Dock/ Deck
DESCRIPTION:
URL:https://healthywatersalliance.com/event/deck-o-rate-your-dock-deck/
CATEGORIES:Fun events
END:VEVENT
BEGIN:VEVENT
DTSTART;TZID=America/Detroit:20240704T133000
DTEND;TZID=America/Detroit:20240704T153000
DTSTAMP:20260421T014030
CREATED:20240311T013254Z
LAST-MODIFIED:20240311T011654Z
UID:126-1720099800-1720107000@healthywatersalliance.com
SUMMARY:Boat Parade
DESCRIPTION:Line up on Mudd lake at 1:30 \nParade starts at 2:00
URL:https://healthywatersalliance.com/event/boat-parade/
END:VEVENT
BEGIN:VEVENT
DTSTART;TZID=America/Detroit:20240706T123000
DTEND;TZID=America/Detroit:20240706T153000
DTSTAMP:20260421T014030
CREATED:20240311T013827Z
LAST-MODIFIED:20240311T011720Z
UID:128-1720269000-1720279800@healthywatersalliance.com
SUMMARY:Poker Run
DESCRIPTION:
URL:https://healthywatersalliance.com/event/poker-run/
CATEGORIES:Fun events
ATTACH;FMTTYPE=image/jpeg:https://healthywatersalliance.com/wp-content/uploads/2024/03/poker_run2-3949209133.jpg
END:VEVENT
BEGIN:VEVENT
DTSTART;TZID=America/Detroit:20240706T180000
DTEND;TZID=America/Detroit:20240706T210000
DTSTAMP:20260421T014030
CREATED:20240311T015524Z
LAST-MODIFIED:20240311T011746Z
UID:131-1720288800-1720299600@healthywatersalliance.com
SUMMARY:Music on the Water with SILENT BARK
DESCRIPTION:Enjoy the music of Silent Bark with us. At the Northwest corner of Wilkinson Lake.
URL:https://healthywatersalliance.com/event/music-on-the-water-with-silent-bark/
LOCATION:Scott and Jen’s\, 8329 Wilkinson Lake St\, Delton\, MI\, 49046\, United States
CATEGORIES:Fun events
ATTACH;FMTTYPE=image/jpeg:https://healthywatersalliance.com/wp-content/uploads/2024/03/264118529_415457803432826_2653899879636671624_n.jpg
END:VEVENT
BEGIN:VEVENT
DTSTART;VALUE=DATE:20240831
DTEND;VALUE=DATE:20240902
DTSTAMP:20260421T014030
CREATED:20240311T015729Z
LAST-MODIFIED:20240311T011844Z
UID:135-1725062400-1725235199@healthywatersalliance.com
SUMMARY:Light up the Lake
DESCRIPTION:Decorate your waterfront with lights
URL:https://healthywatersalliance.com/event/light-up-the-lake/
CATEGORIES:Fun events
END:VEVENT
BEGIN:VEVENT
DTSTART;TZID=America/Detroit:20240921T100000
DTEND;TZID=America/Detroit:20240921T113000
DTSTAMP:20260421T014030
CREATED:20240311T015835Z
LAST-MODIFIED:20240311T011811Z
UID:137-1726912800-1726918200@healthywatersalliance.com
SUMMARY:Annual All Lakes Meeting
DESCRIPTION:
URL:https://healthywatersalliance.com/event/annual-all-lakes-meeting/
CATEGORIES:Meetings
END:VEVENT
BEGIN:VEVENT
DTSTART;TZID=America/Detroit:20250426T090000
DTEND;TZID=America/Detroit:20250426T110000
DTSTAMP:20260421T014030
CREATED:20250507T042246Z
LAST-MODIFIED:20250507T042246Z
UID:196-1745658000-1745665200@healthywatersalliance.com
SUMMARY:Lake Community Clean Up Day
DESCRIPTION:
URL:https://healthywatersalliance.com/event/lake-community-clean-up-day-2/
LOCATION:hope township park
ATTACH;FMTTYPE=image/jpeg:https://healthywatersalliance.com/wp-content/uploads/2024/03/342631006_3449790421957941_6831506435427281869_n.jpg
END:VEVENT
BEGIN:VEVENT
DTSTART;TZID=America/Detroit:20250524T090000
DTEND;TZID=America/Detroit:20250524T120000
DTSTAMP:20260421T014030
CREATED:20250507T042440Z
LAST-MODIFIED:20250507T042440Z
UID:199-1748077200-1748088000@healthywatersalliance.com
SUMMARY:Paddle the Chain
DESCRIPTION:
URL:https://healthywatersalliance.com/event/paddle-the-chain/
ATTACH;FMTTYPE=image/png:https://healthywatersalliance.com/wp-content/uploads/2024/03/Untitled-1.png
END:VEVENT
BEGIN:VEVENT
DTSTART;TZID=America/Detroit:20250531T090000
DTEND;TZID=America/Detroit:20250531T110000
DTSTAMP:20260421T014030
CREATED:20250507T043031Z
LAST-MODIFIED:20250507T043031Z
UID:201-1748682000-1748689200@healthywatersalliance.com
SUMMARY:Annual Lake Meeting & Breakfast
DESCRIPTION:Breakfast from 9 am – 10 am; Meeting from 10 am – 11 am
URL:https://healthywatersalliance.com/event/annual-lake-meeting-breakfast/
LOCATION:DeltoMoose Lodge\, 8651 S M 43 Hwy\, Delton\, MI\, 49046\, United States
ATTACH;FMTTYPE=image/png:https://healthywatersalliance.com/wp-content/uploads/2019/03/logo-and-title-no-background.png
END:VEVENT
BEGIN:VEVENT
DTSTART;TZID=America/Detroit:20250704T080000
DTEND;TZID=America/Detroit:20250706T170000
DTSTAMP:20260421T014030
CREATED:20250507T043153Z
LAST-MODIFIED:20250507T043153Z
UID:204-1751616000-1751821200@healthywatersalliance.com
SUMMARY:Dec(k)-o-Rate  Your Dock/Deck
DESCRIPTION:
URL:https://healthywatersalliance.com/event/deck-o-rate-your-dock-deck-2/
END:VEVENT
BEGIN:VEVENT
DTSTART;TZID=America/Detroit:20250704T133000
DTEND;TZID=America/Detroit:20250704T170000
DTSTAMP:20260421T014030
CREATED:20250507T043341Z
LAST-MODIFIED:20250507T043341Z
UID:206-1751635800-1751648400@healthywatersalliance.com
SUMMARY:Boat Parade
DESCRIPTION:Line up on Mudd Lake at 1:30 pm\nParade starts at 2 pm
URL:https://healthywatersalliance.com/event/boat-parade-2/
END:VEVENT
BEGIN:VEVENT
DTSTART;TZID=America/Detroit:20250705T123000
DTEND;TZID=America/Detroit:20250705T143000
DTSTAMP:20260421T014030
CREATED:20250507T043424Z
LAST-MODIFIED:20250507T043802Z
UID:208-1751718600-1751725800@healthywatersalliance.com
SUMMARY:Poker Run
DESCRIPTION:
URL:https://healthywatersalliance.com/event/poker-run-2/
ATTACH;FMTTYPE=image/jpeg:https://healthywatersalliance.com/wp-content/uploads/2024/03/poker_run2-3949209133.jpg
END:VEVENT
BEGIN:VEVENT
DTSTART;TZID=America/Detroit:20250705T180000
DTEND;TZID=America/Detroit:20250705T210000
DTSTAMP:20260421T014030
CREATED:20250507T043526Z
LAST-MODIFIED:20250507T043526Z
UID:210-1751738400-1751749200@healthywatersalliance.com
SUMMARY:Music On The Lake
DESCRIPTION:TBA
URL:https://healthywatersalliance.com/event/music-on-the-lake/
END:VEVENT
BEGIN:VEVENT
DTSTART;VALUE=DATE:20250829
DTEND;VALUE=DATE:20250902
DTSTAMP:20260421T014030
CREATED:20250507T043731Z
LAST-MODIFIED:20250507T043731Z
UID:212-1756425600-1756771199@healthywatersalliance.com
SUMMARY:Light Up the Lake
DESCRIPTION:Decorate your waterfront with lights all Labor Day Weekend.
URL:https://healthywatersalliance.com/event/light-up-the-lake-2/
END:VEVENT
END:VCALENDAR